BEGIN:VCALENDAR
VERSION:2.0
PRODID:-//ChamberMaster//Event Calendar 2.0//EN
METHOD:PUBLISH
X-PUBLISHED-TTL:P3D
REFRESH-INTERVAL:P3D
CALSCALE:GREGORIAN
BEGIN:VEVENT
DTSTART:20191005T030000Z
DTEND:20191005T070000Z
X-MICROSOFT-CDO-ALLDAYEVENT:FALSE
SUMMARY:Las Vegas Food & Wine Festival
DESCRIPTION:A celebration to kick off the 2019 Las Vegas Food & Wine Festival. Make your escape and join us for one of our most titillating events yet. The Las Vegas Food & Wine Festival offers every extravagance right at your fingertips\, and is set against the luxury backdrop of the exclusive Tivoli Village. Savor the exceptional at every turn as you delight in the finest cuisine and spirits that Las Vegas has to offer. We invite you to delve into one of the most decadent environments in this desert oasis\, as you explore the world famous Tivoli Village. Date: Friday\, Oct. 4 through Saturday\, October 5\, 2019. Time: 8:00 p.m. to midnight Price: GA $100\, VIP $150
X-ALT-DESC;FMTTYPE=text/html:A celebration to kick off the 2019 Las Vegas Food &amp\; Wine Festival. Make your escape and join us for one of our most titillating events yet. The Las Vegas Food &amp\; Wine Festival offers every extravagance right at your fingertips\, and is set against the luxury backdrop of the exclusive Tivoli Village. Savor the exceptional at every turn as you delight in the finest cuisine and spirits that Las Vegas has to offer. We invite you to delve into one of the most decadent environments in this desert oasis\, as you explore the world famous Tivoli Village. Date: Friday\, Oct. 4 through Saturday\, October 5\, 2019. Time: 8:00 p.m. to midnight Price: GA $100\, VIP $150
LOCATION:Tivoli Village 400 S Rampart Blvd\, Las Vegas\, NV\, 89145
UID:e.384.15260
SEQUENCE:3
DTSTAMP:20260421T083825Z
URL:https://business.urbanchamber.org/events/details/las-vegas-food-wine-festival-10-04-2019-15260
END:VEVENT

END:VCALENDAR
